BEGIN:VCALENDAR
VERSION:2.0
PRODID:-//hacksw/handcal//NONSGML v1.0//EN
BEGIN:VEVENT
DTSTART:20260604T083000
DTEND:20260604T183000
LOCATION:IOGS - Palaiseau \n2, Avenue Augustin Fresnel \n91120 PALAISEAU
ORGANIZER;CN=Corentin NANNINI:MAILTO:corentin.nannini@hotmail.fr
SUMMARY:Journée scientifique en l’honneur de Philippe GRANGIER
DESCRIPTION:Quantum-Saclay et l’Institut d’Optique organisent une journée scientifique exceptionnelle dédiée à Philippe Grangier, figure majeure de l’optique quantique, le jeudi 4 juin 2026, de 8h30 à 18h30, à...
URL:https://www.supoptique-alumni.com/fr/event/journee-scientifique-en-l-honneur-de-philippe-grangier/2026/06/04/152
BEGIN:VALARM
TRIGGER:-P0DT1H0M0S
ACTION:DISPLAY
END:VALARM
END:VEVENT
END:VCALENDAR