BEGIN:VCALENDAR
VERSION:2.0
PRODID:-//hacksw/handcal//NONSGML v1.0//EN
BEGIN:VEVENT
DTSTART:20261120T180000
DTEND:20261121T040000
LOCATION:Flow \n4, Port des Invalides \n75007 PARIS
ORGANIZER;CN=Corentin NANNINI:MAILTO:corentin.nannini@hotmail.fr
SUMMARY:Gala de SupOptique
DESCRIPTION:\n
URL:https://www.supoptique-alumni.com/fr/event/gala-de-supoptique/2026/11/20/151
BEGIN:VALARM
TRIGGER:-P0DT1H0M0S
ACTION:DISPLAY
END:VALARM
END:VEVENT
END:VCALENDAR