BEGIN:VCALENDAR
VERSION:2.0
PRODID:-//hacksw/handcal//NONSGML v1.0//EN
BEGIN:VEVENT
DTSTART:20261119T090000
DTEND:20261119T170000
LOCATION:Institut d'Optique \nBâtiment 503
ORGANIZER;CN=Corentin NANNINI:MAILTO:corentin.nannini@hotmail.fr
SUMMARY:Forum de la Photonique 2026
DESCRIPTION:Des chiffres records en 2025 :\n- Plus de 50 stands exposants\n- Tables rondes et conférences avec des intervenants de choix\n- Plus de 500 participants de toute l'industrie photonique\n
URL:https://www.supoptique-alumni.com/fr/event/forum-de-la-photonique-2026/2026/11/19/147
BEGIN:VALARM
TRIGGER:-P0DT1H0M0S
ACTION:DISPLAY
END:VALARM
END:VEVENT
END:VCALENDAR